BEGIN:VCALENDAR
VERSION:2.0
PRODID:-//Cedarburg Public Library//NONSGML v1.0//EN
METHOD:PUBLISH
BEGIN:VEVENT
DTSTART;TZID=America/Chicago:20260426T120000
DTEND;TZID=America/Chicago:20260426T143000
DTSTAMP:20260424T022319
CREATED:20260424T022319-18000
SUMMARY:Checkmate Champions
DESCRIPTION:Chess club for kids.
URL:cedarburg.digitalbranch.org/api/event_export_ics_controlle
LOCATION:Community Room
UID:30880
END:VEVENT
END:VCALENDAR
