BEGIN:VCALENDAR
VERSION:2.0
PRODID:-//Cedarburg Public Library//NONSGML v1.0//EN
METHOD:PUBLISH
BEGIN:VEVENT
DTSTART;TZID=America/Chicago:20260423T180000
DTEND;TZID=America/Chicago:20260423T193000
DTSTAMP:20260423T172203
CREATED:20260423T172203-18000
SUMMARY:private event
DESCRIPTION:private event
URL:cedarburg.digitalbranch.org/api/event_export_ics_controlle
LOCATION:
UID:30877
END:VEVENT
END:VCALENDAR
