BEGIN:VCALENDAR
VERSION:2.0
PRODID:-//Cedarburg Public Library//NONSGML v1.0//EN
METHOD:PUBLISH
BEGIN:VEVENT
DTSTART;TZID=America/Chicago:20260420T170000
DTEND;TZID=America/Chicago:20260420T180000
DTSTAMP:20260419T202137
CREATED:20260419T202137-18000
SUMMARY:Family Bingo
DESCRIPTION:Family Bingo
URL:cedarburg.digitalbranch.org/api/event_export_ics_controlle
LOCATION:
UID:29050
END:VEVENT
END:VCALENDAR
