BEGIN:VCALENDAR
VERSION:2.0
PRODID:-//Cedarburg Public Library//NONSGML v1.0//EN
METHOD:PUBLISH
BEGIN:VEVENT
DTSTART;TZID=America/Chicago:20260421T130000
DTEND;TZID=America/Chicago:20260421T140000
DTSTAMP:20260421T061758
CREATED:20260421T061758-18000
SUMMARY:Afternoon Tea Book Club
DESCRIPTION:Afternoon Tea Book Club meets on the third Tuesday of each month\, 1-2pm. This month's book\: Class by Stephanie Land
URL:cedarburg.digitalbranch.org/api/event_export_ics_controlle
LOCATION:
UID:27106
END:VEVENT
END:VCALENDAR
