BEGIN:VCALENDAR
VERSION:2.0
PRODID:-//Cedarburg Public Library//NONSGML v1.0//EN
METHOD:PUBLISH
BEGIN:VEVENT
DTSTART;TZID=America/Chicago:20260425T100000
DTEND;TZID=America/Chicago:20260425T110000
DTSTAMP:20260424T075012
CREATED:20260424T075012-18000
SUMMARY:Yoga for Nervous System Regulation with Akalai
DESCRIPTION:Enjoy yoga in the peaceful surroundings of the library!
URL:cedarburg.digitalbranch.org/api/event_export_ics_controlle
LOCATION:
UID:27093
END:VEVENT
END:VCALENDAR
