BEGIN:VCALENDAR
VERSION:2.0
PRODID:-//Cedarburg Public Library//NONSGML v1.0//EN
METHOD:PUBLISH
BEGIN:VEVENT
DTSTART;TZID=America/Chicago:20260131T100000
DTEND;TZID=America/Chicago:20260131T110000
DTSTAMP:20260419T084222
CREATED:20260419T084222-18000
SUMMARY:Yoga for Nervous System Regulation with Akalai
DESCRIPTION:Start your day with morning yoga at the library!
URL:cedarburg.digitalbranch.org/api/event_export_ics_controlle
LOCATION:
UID:27090
END:VEVENT
END:VCALENDAR
