BEGIN:VCALENDAR
VERSION:2.0
PRODID:-//Cedarburg Public Library//NONSGML v1.0//EN
METHOD:PUBLISH
BEGIN:VEVENT
DTSTART;TZID=America/Chicago:20260423T133000
DTEND;TZID=America/Chicago:20260423T153000
DTSTAMP:20260422T204935
CREATED:20260422T204935-18000
SUMMARY:private event
DESCRIPTION:private event
URL:cedarburg.digitalbranch.org/api/event_export_ics_controlle
LOCATION:
UID:26811
END:VEVENT
END:VCALENDAR
