BEGIN:VCALENDAR
VERSION:2.0
PRODID:-//Cedarburg Public Library//NONSGML v1.0//EN
METHOD:PUBLISH
BEGIN:VEVENT
DTSTART;TZID=America/Chicago:20260423T133000
DTEND;TZID=America/Chicago:20260423T153000
DTSTAMP:20260422T150510
CREATED:20260422T150510-18000
SUMMARY:SEWI Libraries Adult and Youth Programming Meet-up
DESCRIPTION:This meetup brings library staff from all systems together to discuss all ages programming and brainstorm new ideas.
URL:cedarburg.digitalbranch.org/api/event_export_ics_controlle
LOCATION:
UID:26810
END:VEVENT
END:VCALENDAR
