BEGIN:VCALENDAR
VERSION:2.0
PRODID:-//Cedarburg Public Library//NONSGML v1.0//EN
METHOD:PUBLISH
BEGIN:VEVENT
DTSTART;TZID=America/Chicago:20260307T190000
DTEND;TZID=America/Chicago:20260307T210000
DTSTAMP:20260425T104850
CREATED:20260425T104850-18000
SUMMARY:One of These Nights - Cedarburg Friends of the Library Fundraiser at Cedarburg Cultural Center
DESCRIPTION:FUNDRAISER concert - Eagles Tribute Band\, Take It Easy\, at Cedarburg Cultural Center
URL:cedarburg.digitalbranch.org/api/event_export_ics_controlle
LOCATION:
UID:22830
END:VEVENT
END:VCALENDAR
