BEGIN:VCALENDAR
VERSION:2.0
PRODID:-//Cedarburg Public Library//NONSGML v1.0//EN
METHOD:PUBLISH
BEGIN:VEVENT
DTSTART;TZID=America/Chicago:20250614T100000
DTEND;TZID=America/Chicago:20250614T130000
DTSTAMP:20260425T105256
CREATED:20260425T105256-18000
SUMMARY:Kickoff to Summer at Cedar Creek Park
DESCRIPTION:Kickoff to Summer at Cedar Creek Park
Hosted by Parks and Recreation Department AT CEDAR CREEK PARK. Join as we celebrate the start of summer! There will be bounce houses\, glitter tattoo painting\, balloon twisting\, food and more! Visit the library’s tent and register for the summer reading program.
URL:cedarburg.digitalbranch.org/api/event_export_ics_controlle
LOCATION:
UID:19497
END:VEVENT
END:VCALENDAR
