BEGIN:VCALENDAR
VERSION:2.0
PRODID:-//Cedarburg Public Library//NONSGML v1.0//EN
METHOD:PUBLISH
BEGIN:VEVENT
DTSTART;TZID=America/Chicago:20250317T180000
DTEND;TZID=America/Chicago:20250317T194500
DTSTAMP:20260420T073108
CREATED:20260420T073108-18000
SUMMARY:Cedarburg Community Conversations
DESCRIPTION:This month's theme\: 'Won’t You Be My Neighbor?' A Community Conversation about Housing in Cedarburg
URL:cedarburg.digitalbranch.org/api/event_export_ics_controlle
LOCATION:
UID:13672
END:VEVENT
END:VCALENDAR
