BEGIN:VCALENDAR
VERSION:2.0
PRODID:-//Cedarburg Public Library//NONSGML v1.0//EN
METHOD:PUBLISH
BEGIN:VEVENT
DTSTART;TZID=America/Chicago:20240718T130000
DTEND;TZID=America/Chicago:20240718T140000
DTSTAMP:20260422T174423
CREATED:20260422T174423-18000
SUMMARY:Prairies: Blazing with Life by Schlitz Audubon Nature Center
DESCRIPTION:Prairies\: Blazing with Life by Schlitz Audubon Nature Center
URL:cedarburg.digitalbranch.org/api/event_export_ics_controlle
LOCATION:
UID:12204
END:VEVENT
END:VCALENDAR
